BEGIN:VCALENDAR
VERSION:2.0
PRODID:-//Voix Humaines - ECPv6.15.20//NONSGML v1.0//EN
CALSCALE:GREGORIAN
METHOD:PUBLISH
X-WR-CALNAME:Voix Humaines
X-ORIGINAL-URL:https://voixhumaines.fr
X-WR-CALDESC:Évènements pour Voix Humaines
REFRESH-INTERVAL;VALUE=DURATION:PT1H
X-Robots-Tag:noindex
X-PUBLISHED-TTL:PT1H
BEGIN:VTIMEZONE
TZID:Europe/Paris
BEGIN:DAYLIGHT
TZOFFSETFROM:+0100
TZOFFSETTO:+0200
TZNAME:CEST
DTSTART:20250330T010000
END:DAYLIGHT
BEGIN:STANDARD
TZOFFSETFROM:+0200
TZOFFSETTO:+0100
TZNAME:CET
DTSTART:20251026T010000
END:STANDARD
BEGIN:DAYLIGHT
TZOFFSETFROM:+0100
TZOFFSETTO:+0200
TZNAME:CEST
DTSTART:20260329T010000
END:DAYLIGHT
BEGIN:STANDARD
TZOFFSETFROM:+0200
TZOFFSETTO:+0100
TZNAME:CET
DTSTART:20261025T010000
END:STANDARD
BEGIN:DAYLIGHT
TZOFFSETFROM:+0100
TZOFFSETTO:+0200
TZNAME:CEST
DTSTART:20270328T010000
END:DAYLIGHT
BEGIN:STANDARD
TZOFFSETFROM:+0200
TZOFFSETTO:+0100
TZNAME:CET
DTSTART:20271031T010000
END:STANDARD
END:VTIMEZONE
BEGIN:VEVENT
DTSTART;TZID=Europe/Paris:20260509T203000
DTEND;TZID=Europe/Paris:20260509T220000
DTSTAMP:20260424T151631
CREATED:20260224T173811Z
LAST-MODIFIED:20260306T113916Z
UID:1384-1778358600-1778364000@voixhumaines.fr
SUMMARY:lumineuses... à Plestin-les-Grèves (22) pour la première
DESCRIPTION:https://voixhumaines.fr/wp-content/uploads/2025/10/Lumieres03.mp4\nPlestin-les-Grèves accueille la première du nouveau spectacle de Voix Humaines\, mis en espace par Danielle Le Pierrès. \n\nLaura Jekabsone\, Jumalo\nShara Nova\, How Do I Keep on Feelin’ in This Mean\, Mean World\nSarah Dacey\, Love letter\nThierry Machuel\, Madone de Miséricorde\nOla Gjeilo\, Northern Lights\nEric Whitacre\, Enjoy the silence\nShara Nova\, Pulses\nDavid L. Brunner\, Again\, again…\nCheryl Engelhardt\, The Listening\nReena Esmail\, Take what you need-Un souffle\nReena Esmail\, TaReKiTa\nUrmas Sisask\, Stabat Mater\nLaura Hawley\, The arrow and the song\nJoanna Forbes L’Estrange\, Drop\, drop\, slow tears\nReena Esmail\, Take what you need-Ralentir\nLaura Jekabsone\, Ilus hääl\n\n\nSarah Quartel\, The Bird’s lullaby
URL:https://voixhumaines.fr/event/nouveau-programme-a-plestin-les-greves-22-pour-la-premiere/
LOCATION:église\, Plestin-les-Grèves\, Place de l'église\, Plestin-les-Grèves\, Bretagne\, 22310\, France
ORGANIZER;CN="Association Voix Humaines":MAILTO:contact@voixhumaines.fr
END:VEVENT
END:VCALENDAR